BEGIN:VCALENDAR
VERSION:2.0
PRODID:-//Bridges 5.0 - ECPv6.15.16//NONSGML v1.0//EN
CALSCALE:GREGORIAN
METHOD:PUBLISH
X-WR-CALNAME:Bridges 5.0
X-ORIGINAL-URL:http://bridges5-0.eu
X-WR-CALDESC:Events for Bridges 5.0
REFRESH-INTERVAL;VALUE=DURATION:PT1H
X-Robots-Tag:noindex
X-PUBLISHED-TTL:PT1H
BEGIN:VTIMEZONE
TZID:UTC
BEGIN:STANDARD
TZOFFSETFROM:+0000
TZOFFSETTO:+0000
TZNAME:UTC
DTSTART:20220101T000000
END:STANDARD
END:VTIMEZONE
BEGIN:VEVENT
DTSTART;TZID=UTC:20231027T100000
DTEND;TZID=UTC:20231027T110000
DTSTAMP:20260419T225606
CREATED:20230906T093345Z
LAST-MODIFIED:20240625T142457Z
UID:2363-1698400800-1698404400@bridges5-0.eu
SUMMARY:WEBINAR: Workplace innovation in France: latest developments in Anact.
DESCRIPTION:Webinar recording \nA recording of this webinar is available on the recordings page. \n\n\n\n\nAt a time of ecological\, economic and societal transitions\, it is more important than ever to place work at the heart of social and professional dialogue. ANACT\, the French National Agency for the Improvement of Working Conditions\, has been acting for 50 years to improve the quality of working life through a concerted approach to changes in the workplace. Today\, the agency continues to help companies and public organisations to cope with professional transitions with innovative methods and tools designed on the basis of pilot projects. In this webinar\, we will focus on its gender mainstreaming approach\, which enables companies to take into account the different work situations of women and men in order to integrate equality issues into organisational transitions\, such as the introduction of hybrid work. \n\n\n\nSégolène JOURNOUD and Karine BABULE are in charge with international projects at Anact\, helping companies improve their quality of working life. \n\n\n\n\nDiscover the full programme and book your place. \n\n\n\n\nView the programme\n\n\n\n\n\nSpeakers: \n\n\n\n\n\nSégolène JournoudAnact\, France\n\n\n\n\n\nKarine BabuleAnact\, France\n\n\n\n\n\n\n\n\n\n\n\n\n\n\n\n\n\nEUWIN (the European Workplace Innovation Network) is a community of researchers and practitioners from business\, public policy\, research and social partner organisations. Its remit is to promote workplace practices that lead to simultaneous improvements in organisational performance and quality of working life for employees. First established by the European Commission in 2013\, EUWIN is now funded and managed by a network of international partners.
URL:http://bridges5-0.eu/event/euwin-webinar-workplace-innovation-in-france-latest-developments-in-anact/
ATTACH;FMTTYPE=image/jpeg:http://bridges5-0.eu/wp-content/uploads/2023/09/EUWIN-WEBINAR-Anact-feat.jpg
END:VEVENT
END:VCALENDAR