BEGIN:VCALENDAR
VERSION:2.0
PRODID:-//Bridges 5.0 - ECPv6.15.16//NONSGML v1.0//EN
CALSCALE:GREGORIAN
METHOD:PUBLISH
X-ORIGINAL-URL:http://bridges5-0.eu
X-WR-CALDESC:Events for Bridges 5.0
REFRESH-INTERVAL;VALUE=DURATION:PT1H
X-Robots-Tag:noindex
X-PUBLISHED-TTL:PT1H
BEGIN:VTIMEZONE
TZID:UTC
BEGIN:STANDARD
TZOFFSETFROM:+0000
TZOFFSETTO:+0000
TZNAME:UTC
DTSTART:20220101T000000
END:STANDARD
END:VTIMEZONE
BEGIN:VEVENT
DTSTART;TZID=UTC:20231030T000000
DTEND;TZID=UTC:20231031T235959
DTSTAMP:20260419T213338
CREATED:20230922T194215Z
LAST-MODIFIED:20240625T142448Z
UID:2413-1698624000-1698796799@bridges5-0.eu
SUMMARY:Skills for the Future.
DESCRIPTION:Skills for the Future: Navigating the Digital\, Green and Social Transitions in European Labour Markets – 30th/31st October\, Luxembourg.\n\n\n\nOrganised by the Luxembourg Institute of Socio-Economic Research (LISER) and co-funded by Luxembourg’s National Research Fund (FNR)\, the objective of the international scientific conference Skills for the Future: Navigating the Digital\, Green and Social Transitions in European Labour Markets is to bring together leading national and international scholars in the social sciences to address the challenges of the digital\, green and social transitions for the labour market\, society and education. \n\n\n\nThe conference marks the first international conference of the ELMI Network (Network of European Labour Market Research Institutes) initiated in October 2022 by the Luxembourg Institute of Socio-Economic Research (LISER) and the Institute for Employment Research (IAB). The network is currently composed of 11 research institutes from all over Europe to facilitate the international exchange of best practices\, ideas and people (for more information\, see: www.elmi-network.eu). It promotes multi-disciplinary research collaborations\, especially at the EU level\, and the exchange of best practices in data management\, data access and discussions with policy-makers and stakeholders. \n\n\n\n\n\n\n\n\nPhoto source\nPhoto by Cedric Letsch on Unsplash
URL:http://bridges5-0.eu/event/skills-for-the-future/
ATTACH;FMTTYPE=image/jpeg:http://bridges5-0.eu/wp-content/uploads/2023/09/skills-for-future-conference.jpg
END:VEVENT
END:VCALENDAR