BEGIN:VCALENDAR
VERSION:2.0
PRODID:-//Bridges 5.0 - ECPv6.15.16//NONSGML v1.0//EN
CALSCALE:GREGORIAN
METHOD:PUBLISH
X-ORIGINAL-URL:http://bridges5-0.eu
X-WR-CALDESC:Events for Bridges 5.0
REFRESH-INTERVAL;VALUE=DURATION:PT1H
X-Robots-Tag:noindex
X-PUBLISHED-TTL:PT1H
BEGIN:VTIMEZONE
TZID:UTC
BEGIN:STANDARD
TZOFFSETFROM:+0000
TZOFFSETTO:+0000
TZNAME:UTC
DTSTART:20220101T000000
END:STANDARD
END:VTIMEZONE
BEGIN:VEVENT
DTSTART;TZID=UTC:20231107T000000
DTEND;TZID=UTC:20231107T235959
DTSTAMP:20260419T213337
CREATED:20230922T195629Z
LAST-MODIFIED:20240625T142439Z
UID:2415-1699315200-1699401599@bridges5-0.eu
SUMMARY:I-SKILL National workshop for Flanders.
DESCRIPTION:I-SKILL National workshop for Flanders (Belgium): “How to promote lifelong learning in Belgium in a context of the green and digital transition?” – 7th  November 2023\, Leuven\, Belgium (In Dutch).\n\n\n\nAlthough lifelong learning is becoming increasingly important in the context of the green and digital transition\, participation in lifelong learning in Flanders appears to be too low and there is not yet a strong learning culture. The I-SKILL project studies how lifelong learning can be stimulated in the EU\, both among employers and employees\, and what policymakers and the social partners (can) do in this area. The project addresses the barriers perceived by employers and employees\, including accessibility and quality of training provision\, funding and motivation. \n\n\n\nTo conclude the part of the research that focused on Flanders\, HIVA-KU Leuven is organising a workshop on 7 November 2023\, with a keynote speech by Vickie Dekocker (Agoria\, KU Leuven)\, presentations of own research on skills and lifelong learning\, and a panel discussion with experts and stakeholders on the road to a workforce ready for the future. \n\n\n\n\n\n\n\n\nPhoto source\nPhoto by Thomas Bormans on Unsplash
URL:http://bridges5-0.eu/event/i-skill-national-workshop-for-flanders/
ATTACH;FMTTYPE=image/jpeg:http://bridges5-0.eu/wp-content/uploads/2023/09/i-skill-conference-belgium.jpg
END:VEVENT
END:VCALENDAR