BEGIN:VCALENDAR
VERSION:2.0
PRODID:-//Bridges 5.0 - ECPv6.15.16//NONSGML v1.0//EN
CALSCALE:GREGORIAN
METHOD:PUBLISH
X-WR-CALNAME:Bridges 5.0
X-ORIGINAL-URL:http://bridges5-0.eu
X-WR-CALDESC:Events for Bridges 5.0
REFRESH-INTERVAL;VALUE=DURATION:PT1H
X-Robots-Tag:noindex
X-PUBLISHED-TTL:PT1H
BEGIN:VTIMEZONE
TZID:UTC
BEGIN:STANDARD
TZOFFSETFROM:+0000
TZOFFSETTO:+0000
TZNAME:UTC
DTSTART:20230101T000000
END:STANDARD
END:VTIMEZONE
BEGIN:VEVENT
DTSTART;TZID=UTC:20240126T100000
DTEND;TZID=UTC:20240126T110000
DTSTAMP:20260419T184050
CREATED:20231020T101507Z
LAST-MODIFIED:20240625T142429Z
UID:2455-1706263200-1706266800@bridges5-0.eu
SUMMARY:WEBINAR: The Dual Transformation and Workplace Innovation.
DESCRIPTION:The Case of The German Automotive Industry\n\n\n\n\n\n\n\nWebinar \nThis is a webinar and it will be delivered via Zoom. This webinar is part of the EUWIN and Bridges 5.0 programme of events. \n\n\n\n\nWorkplace innovation has a long tradition in the German Automotive Industry. Inspired by Volvo’s experiments\, German car companies throughout the 1980s and 1990s implemented various forms of participation-oriented forms of teamwork granting autonomy to shopfloor workers. Although work organisation has been modified during the last two to three decades\, the automotive industry is still a stronghold of worker participation in Germany. \n\n\n\nThe webinar looks into current developments in the German automotive industry. How is the ongoing dual transformation of decarbonisation and digitalisation impacting workplace innovation for shopfloor workers? Based on case studies in German OEM and suppliers\, the webinar will discuss a polarisation trend within workplace innovation. While the core workforces of OEM and large suppliers enjoy relatively stable forms of workplace innovation\, the opportunities for contingent workers and the employees of suppliers are shrinking.  \n\n\n\n\nDiscover the full programme and book your place. \n\n\n\n\nView the programme\n\n\n\n\n\nSpeakers: \n\n\n\n\n\nHajo HolstUniversität Osnabrück\, Germany\n\n\n\n\n\n\n\n\n\n\n\n\n\n\n\n\n\n\n\n\n\nEUWIN (the European Workplace Innovation Network) is a community of researchers and practitioners from business\, public policy\, research and social partner organisations. Its remit is to promote workplace practices that lead to simultaneous improvements in organisational performance and quality of working life for employees. First established by the European Commission in 2013\, EUWIN is now funded and managed by a network of international partners. \n\n\n\n\n\n\n\n\n\nBridging human & digital potential. Bridges 5.0 creates a unique consortium based on active collaboration between researchers\, 8 EU industrial companies\, 9 Industry 4.0 ecosystems\, and the main EU social partners. See https://bridges5-0.eu \n\n\n\n\n\n\n\nPhoto source\nPhoto by Maksym Kaharlytskyi on Unsplash
URL:http://bridges5-0.eu/event/webinar-the-dual-transformation-and-workplace-innovation/
ATTACH;FMTTYPE=image/jpeg:http://bridges5-0.eu/wp-content/uploads/2023/10/webinar-26-Jan-feat.jpg
END:VEVENT
END:VCALENDAR