BEGIN:VCALENDAR
VERSION:2.0
PRODID:-//Bridges 5.0 - ECPv6.15.16//NONSGML v1.0//EN
CALSCALE:GREGORIAN
METHOD:PUBLISH
X-ORIGINAL-URL:http://bridges5-0.eu
X-WR-CALDESC:Events for Bridges 5.0
REFRESH-INTERVAL;VALUE=DURATION:PT1H
X-Robots-Tag:noindex
X-PUBLISHED-TTL:PT1H
BEGIN:VTIMEZONE
TZID:UTC
BEGIN:STANDARD
TZOFFSETFROM:+0000
TZOFFSETTO:+0000
TZNAME:UTC
DTSTART:20230101T000000
END:STANDARD
END:VTIMEZONE
BEGIN:VEVENT
DTSTART;TZID=UTC:20240223T100000
DTEND;TZID=UTC:20240223T110000
DTSTAMP:20260419T170650
CREATED:20231110T164832Z
LAST-MODIFIED:20231110T164835Z
UID:2485-1708682400-1708686000@bridges5-0.eu
SUMMARY:WEBINAR: Trade unions’ responses to Industry 4.0 amid corporatism and resistance.
DESCRIPTION:Webinar \nThis is a webinar and it will be delivered via Zoom. This webinar is part of the EUWIN programme of events. \n\n\n\n\nThe Introduction of Industry 4.0 technologies opens up a new space of action for trades unions in influencing decision-making at firm level. This webinar will shed light on the role and influence of trade unions on the adoption of new technologies\, drawing on evidence from the engineering and automotive industrial district on the outskirts of Bologna. \n\n\n\nValeria Cirillo is Associate Professor of Political Economy at the Department of Political Science of the University of Bari and is an external affiliate of the Institute of Economics of the Scuola Superiore Sant’Anna of Pisa. \n\n\n\n\n\nDiscover the full programme and book your place. \n\n\n\n\nView the programme\n\n\n\n\n\nSpeaker: \n\n\n\n\n\nValeria Cirillo(University of Bari)\n\n\n\n\n\n\n\n\n\n\n\n\n\n\n\n\n\n\n\n\n\nEUWIN (the European Workplace Innovation Network) is a community of researchers and practitioners from business\, public policy\, research and social partner organisations. Its remit is to promote workplace practices that lead to simultaneous improvements in organisational performance and quality of working life for employees. First established by the European Commission in 2013\, EUWIN is now funded and managed by a network of international partners.
URL:http://bridges5-0.eu/event/webinar-trade-unions-responses-to-industry-4-0-amid-corporatism-and-resistance/
ATTACH;FMTTYPE=image/jpeg:http://bridges5-0.eu/wp-content/uploads/2023/11/trade-unions-event.jpg
END:VEVENT
END:VCALENDAR