BEGIN:VCALENDAR
VERSION:2.0
PRODID:-//Bridges 5.0 - ECPv6.15.16//NONSGML v1.0//EN
CALSCALE:GREGORIAN
METHOD:PUBLISH
X-WR-CALNAME:Bridges 5.0
X-ORIGINAL-URL:http://bridges5-0.eu
X-WR-CALDESC:Events for Bridges 5.0
REFRESH-INTERVAL;VALUE=DURATION:PT1H
X-Robots-Tag:noindex
X-PUBLISHED-TTL:PT1H
BEGIN:VTIMEZONE
TZID:UTC
BEGIN:STANDARD
TZOFFSETFROM:+0000
TZOFFSETTO:+0000
TZNAME:UTC
DTSTART:20220101T000000
END:STANDARD
END:VTIMEZONE
BEGIN:VEVENT
DTSTART;TZID=UTC:20230922T140000
DTEND;TZID=UTC:20230922T153000
DTSTAMP:20260419T225705
CREATED:20230922T202108Z
LAST-MODIFIED:20230922T202216Z
UID:2417-1695391200-1695396600@bridges5-0.eu
SUMMARY:Industry 5.0: A new approach fostering social innovation?!
DESCRIPTION:Part of the conference’ Living Labs for an era of transitions – How human-centric innovation is changing our lives.’\n\n\n\nIndustry 5.0 is putting a new lens on the mostly technological perspective of Industry 4.0. By focusing on human-centricity\, sustainability and resilience Industry 5.0 is offering a systemic integration of the social dimension of technological innovation. Combining technological and social innovation will open new pathways for the solution of societal challenges form shareholder to shared value. The session will highlight the relevance of human-centricity for a sustainable and resilient industry. \n\n\n\n\n\n\n\n\nPhoto source\nPhoto by D Jonez on Unsplash
URL:http://bridges5-0.eu/event/industry-5-0-a-new-approach-fostering-social-innovation/
ATTACH;FMTTYPE=image/jpeg:http://bridges5-0.eu/wp-content/uploads/2023/09/barcelona-conference.jpg
END:VEVENT
BEGIN:VEVENT
DTSTART;TZID=UTC:20230929T100000
DTEND;TZID=UTC:20230929T110000
DTSTAMP:20260419T225705
CREATED:20230906T093244Z
LAST-MODIFIED:20230929T212716Z
UID:2360-1695981600-1695985200@bridges5-0.eu
SUMMARY:WEBINAR: How to digitalise your future? Start with better organising.
DESCRIPTION:Webinar Recording \nA recording of this webinar is available on the recordings page. \n\n\n\n\nThe European H2020 Beyond4.0 project which ended in March produced several interesting results. One of the particular results is that companies which strengthen their ‘learning capacity’ perform better economically and socially as a result. Both the company and the employee benefit from such a strategy. The project produced even more interesting results. Steven Dhondt\, as coordinator of the project\, provides an overview of the main results in this webinar and outlines how different stakeholders can benefit from them. \n\n\n\nSteven Dhondt is fascinated by how workers and companies can find a common ground to improve performance. His research and actions are focused on understanding this topic. \n\n\n\n\nDiscover the full programme and book your place. \n\n\n\n\nView the programme\n\n\n\n\n\nSpeaker: \n\n\n\n\n\nSteven DhondtTNO\, NL\n\n\n\n\n\n\n\n\n\n\n\n\n\n\n\n\n\n\n\n\n\nEUWIN (the European Workplace Innovation Network) is a community of researchers and practitioners from business\, public policy\, research and social partner organisations. Its remit is to promote workplace practices that lead to simultaneous improvements in organisational performance and quality of working life for employees. First established by the European Commission in 2013\, EUWIN is now funded and managed by a network of international partners.
URL:http://bridges5-0.eu/event/euwin-webinar-how-to-digitalise-your-future-start-with-better-organising/
ATTACH;FMTTYPE=image/jpeg:http://bridges5-0.eu/wp-content/uploads/2023/09/EUWIN-WEBINAR-Steven-feat.jpg
END:VEVENT
END:VCALENDAR